BEGIN:VCALENDAR
VERSION:2.0
PRODID:-//Plone.org//NONSGML plone.app.event//EN
X-WR-TIMEZONE:Europe/Madrid
BEGIN:VEVENT
SUMMARY:Sant Vicenç 2017: Portes obertes al Museu Abelló i a la Casa del
  Pintor
DTSTART;TZID=Europe/Madrid;VALUE=DATE-TIME:20170121T000000
DTEND;TZID=Europe/Madrid;VALUE=DATE-TIME:20170121T235959
DTSTAMP;VALUE=DATE-TIME:20260425T124502Z
UID:14b0c3e5e9d74f3996a82b7bf2cec7b6@www.molletvalles.cat
CATEGORIES:Exposiciones y ferias
CREATED;VALUE=DATE-TIME:20170102T083326Z
LAST-MODIFIED;VALUE=DATE-TIME:20221222T013039Z
URL:https://www.molletvalles.cat/es/actualidad/agenda/18009
END:VEVENT
BEGIN:VTIMEZONE
TZID:Europe/Madrid
X-LIC-LOCATION:Europe/Madrid
BEGIN:STANDARD
DTSTART;VALUE=DATE-TIME:20161030T020000
TZNAME:CET
TZOFFSETFROM:+0200
TZOFFSETTO:+0100
END:STANDARD
END:VTIMEZONE
END:VCALENDAR
