BEGIN:VCALENDAR
VERSION:2.0
PRODID:-//Plone.org//NONSGML plone.app.event//EN
X-WR-TIMEZONE:Europe/Madrid
BEGIN:VEVENT
SUMMARY:Exposició: "Vinyetes: història del còmic en català"
DTSTART;TZID=Europe/Madrid;VALUE=DATE-TIME:20170206T000000
DTEND;TZID=Europe/Madrid;VALUE=DATE-TIME:20170206T235959
DTSTAMP;VALUE=DATE-TIME:20260423T142246Z
UID:b167b6f0d3a943559f67ba1c24d1fbb2@www.molletvalles.cat
CATEGORIES:Exposiciones y ferias
CREATED;VALUE=DATE-TIME:20170102T085921Z
LAST-MODIFIED;VALUE=DATE-TIME:20221222T013054Z
URL:https://www.molletvalles.cat/es/actualidad/agenda/18012
END:VEVENT
BEGIN:VTIMEZONE
TZID:Europe/Madrid
X-LIC-LOCATION:Europe/Madrid
BEGIN:STANDARD
DTSTART;VALUE=DATE-TIME:20161030T020000
TZNAME:CET
TZOFFSETFROM:+0200
TZOFFSETTO:+0100
END:STANDARD
END:VTIMEZONE
END:VCALENDAR
