BEGIN:VCALENDAR
VERSION:2.0
PRODID:-//Plone.org//NONSGML plone.app.event//EN
X-WR-TIMEZONE:Europe/Madrid
BEGIN:VEVENT
SUMMARY:XXV aniversari de la Colla dels Castellers de Mollet. Diada d'inic
 i de temporada
DTSTART;TZID=Europe/Madrid;VALUE=DATE-TIME:20170319T000000
DTEND;TZID=Europe/Madrid;VALUE=DATE-TIME:20170319T235959
DTSTAMP;VALUE=DATE-TIME:20260425T124604Z
UID:d4ab9e67580a4a459e44bb471768f24c@www.molletvalles.cat
CATEGORIES:Fiestas populares
CREATED;VALUE=DATE-TIME:20170207T123819Z
LAST-MODIFIED;VALUE=DATE-TIME:20221222T013611Z
LOCATION:Plaça Prat de la Riba
URL:https://www.molletvalles.cat/es/actualidad/agenda/18184
END:VEVENT
BEGIN:VTIMEZONE
TZID:Europe/Madrid
X-LIC-LOCATION:Europe/Madrid
BEGIN:STANDARD
DTSTART;VALUE=DATE-TIME:20161030T020000
TZNAME:CET
TZOFFSETFROM:+0200
TZOFFSETTO:+0100
END:STANDARD
END:VTIMEZONE
END:VCALENDAR
