BEGIN:VCALENDAR
VERSION:2.0
PRODID:-//Plone.org//NONSGML plone.app.event//EN
X-WR-TIMEZONE:Europe/Madrid
BEGIN:VEVENT
SUMMARY:14è Concurs de Dibuix de punts de llibre
DTSTART;TZID=Europe/Madrid;VALUE=DATE-TIME:20170301T000000
DTEND;TZID=Europe/Madrid;VALUE=DATE-TIME:20170301T235959
DTSTAMP;VALUE=DATE-TIME:20260419T164226Z
UID:c7208560a6fc438b82ea7f8ee04e8ede@www.molletvalles.cat
CATEGORIES:Concursos y premios
CREATED;VALUE=DATE-TIME:20170228T101414Z
LAST-MODIFIED;VALUE=DATE-TIME:20221222T014104Z
URL:https://www.molletvalles.cat/es/actualidad/agenda/18288
END:VEVENT
BEGIN:VTIMEZONE
TZID:Europe/Madrid
X-LIC-LOCATION:Europe/Madrid
BEGIN:STANDARD
DTSTART;VALUE=DATE-TIME:20161030T020000
TZNAME:CET
TZOFFSETFROM:+0200
TZOFFSETTO:+0100
END:STANDARD
END:VTIMEZONE
END:VCALENDAR
