BEGIN:VCALENDAR
VERSION:2.0
PRODID:-//Plone.org//NONSGML plone.app.event//EN
X-WR-TIMEZONE:Europe/Madrid
BEGIN:VEVENT
SUMMARY:11a. Trobada de Punts de llibres i bosses de sucre
DTSTART;TZID=Europe/Madrid;VALUE=DATE-TIME:20170618T000000
DTEND;TZID=Europe/Madrid;VALUE=DATE-TIME:20170618T235959
DTSTAMP;VALUE=DATE-TIME:20260425T125839Z
UID:dc9d57c7299d4b4aa9f1bfea303dfabd@www.molletvalles.cat
CATEGORIES:Exposiciones y ferias
CREATED;VALUE=DATE-TIME:20170313T105035Z
LAST-MODIFIED;VALUE=DATE-TIME:20221222T014236Z
URL:https://www.molletvalles.cat/es/actualidad/agenda/18330
END:VEVENT
BEGIN:VTIMEZONE
TZID:Europe/Madrid
X-LIC-LOCATION:Europe/Madrid
BEGIN:DAYLIGHT
DTSTART;VALUE=DATE-TIME:20170326T030000
TZNAME:CEST
TZOFFSETFROM:+0100
TZOFFSETTO:+0200
END:DAYLIGHT
END:VTIMEZONE
END:VCALENDAR
