BEGIN:VCALENDAR
VERSION:2.0
PRODID:-//Plone.org//NONSGML plone.app.event//EN
X-WR-TIMEZONE:Europe/Madrid
BEGIN:VEVENT
SUMMARY:Passejada literària pel Mollet del segle XX
DTSTART;TZID=Europe/Madrid;VALUE=DATE-TIME:20170705T000000
DTEND;TZID=Europe/Madrid;VALUE=DATE-TIME:20170705T235959
DTSTAMP;VALUE=DATE-TIME:20260419T164200Z
UID:fa6d704d06f941d6898ce2f886fe0c17@www.molletvalles.cat
CATEGORIES:Salidas y excursiones
CREATED;VALUE=DATE-TIME:20170622T074606Z
LAST-MODIFIED;VALUE=DATE-TIME:20221222T015851Z
URL:https://www.molletvalles.cat/es/actualidad/agenda/18680
END:VEVENT
BEGIN:VTIMEZONE
TZID:Europe/Madrid
X-LIC-LOCATION:Europe/Madrid
BEGIN:DAYLIGHT
DTSTART;VALUE=DATE-TIME:20170326T030000
TZNAME:CEST
TZOFFSETFROM:+0100
TZOFFSETTO:+0200
END:DAYLIGHT
END:VTIMEZONE
END:VCALENDAR
