BEGIN:VCALENDAR
VERSION:2.0
PRODID:-//Plone.org//NONSGML plone.app.event//EN
X-WR-TIMEZONE:Europe/Madrid
BEGIN:VEVENT
SUMMARY:Torneig aleví F7 Molletense Cup
DTSTART;TZID=Europe/Madrid;VALUE=DATE-TIME:20170916T000000
DTEND;TZID=Europe/Madrid;VALUE=DATE-TIME:20170916T235959
DTSTAMP;VALUE=DATE-TIME:20260419T164200Z
UID:ac384adbaeed4900b8ba9f686eb2ca62@www.molletvalles.cat
CATEGORIES:Deportes
CREATED;VALUE=DATE-TIME:20170913T071257Z
LAST-MODIFIED;VALUE=DATE-TIME:20221222T020859Z
URL:https://www.molletvalles.cat/es/actualidad/agenda/18876
END:VEVENT
BEGIN:VTIMEZONE
TZID:Europe/Madrid
X-LIC-LOCATION:Europe/Madrid
BEGIN:DAYLIGHT
DTSTART;VALUE=DATE-TIME:20170326T030000
TZNAME:CEST
TZOFFSETFROM:+0100
TZOFFSETTO:+0200
END:DAYLIGHT
END:VTIMEZONE
END:VCALENDAR
