BEGIN:VCALENDAR
VERSION:2.0
PRODID:-//Plone.org//NONSGML plone.app.event//EN
X-WR-TIMEZONE:Europe/Madrid
BEGIN:VEVENT
SUMMARY:Nadal 2017: Passejada de les 3 Carteres Reials
DTSTART;TZID=Europe/Madrid;VALUE=DATE-TIME:20180103T000000
DTEND;TZID=Europe/Madrid;VALUE=DATE-TIME:20180103T235959
DTSTAMP;VALUE=DATE-TIME:20260423T133959Z
UID:edece7c19b0e4c849071f036b1af4ee1@www.molletvalles.cat
CATEGORIES:Infantiles
CREATED;VALUE=DATE-TIME:20171128T123459Z
LAST-MODIFIED;VALUE=DATE-TIME:20221222T022454Z
LOCATION:Comerços de Plana Lledó i Can Borrell
URL:https://www.molletvalles.cat/es/actualidad/agenda/19153
END:VEVENT
BEGIN:VTIMEZONE
TZID:Europe/Madrid
X-LIC-LOCATION:Europe/Madrid
BEGIN:STANDARD
DTSTART;VALUE=DATE-TIME:20171029T020000
TZNAME:CET
TZOFFSETFROM:+0200
TZOFFSETTO:+0100
END:STANDARD
END:VTIMEZONE
END:VCALENDAR
