BEGIN:VCALENDAR
VERSION:2.0
PRODID:-//Plone.org//NONSGML plone.app.event//EN
X-WR-TIMEZONE:Europe/Madrid
BEGIN:VEVENT
SUMMARY:Nadal 2017: Patge Xumet
DTSTART;TZID=Europe/Madrid;VALUE=DATE-TIME:20180104T000000
DTEND;TZID=Europe/Madrid;VALUE=DATE-TIME:20180104T235959
DTSTAMP;VALUE=DATE-TIME:20260423T171017Z
UID:8c54d90c3a914a798184563caa61819f@www.molletvalles.cat
CATEGORIES:Infantiles
CREATED;VALUE=DATE-TIME:20171128T131654Z
LAST-MODIFIED;VALUE=DATE-TIME:20221222T022500Z
LOCATION:Mercat Municipal
URL:https://www.molletvalles.cat/es/actualidad/agenda/19156
END:VEVENT
BEGIN:VTIMEZONE
TZID:Europe/Madrid
X-LIC-LOCATION:Europe/Madrid
BEGIN:STANDARD
DTSTART;VALUE=DATE-TIME:20171029T020000
TZNAME:CET
TZOFFSETFROM:+0200
TZOFFSETTO:+0100
END:STANDARD
END:VTIMEZONE
END:VCALENDAR
