BEGIN:VCALENDAR
VERSION:2.0
PRODID:-//Plone.org//NONSGML plone.app.event//EN
X-WR-TIMEZONE:Europe/Madrid
BEGIN:VEVENT
SUMMARY:Inscripcions al VII Festival Devilfest 2018
DTSTART;TZID=Europe/Madrid;VALUE=DATE-TIME:20180112T000000
DTEND;TZID=Europe/Madrid;VALUE=DATE-TIME:20180112T235959
DTSTAMP;VALUE=DATE-TIME:20260423T121938Z
UID:303a7490a06246cc92ac38307cd76298@www.molletvalles.cat
CATEGORIES:Música\, cine y espectáculos
CREATED;VALUE=DATE-TIME:20180112T090447Z
LAST-MODIFIED;VALUE=DATE-TIME:20221222T023133Z
URL:https://www.molletvalles.cat/es/actualidad/agenda/19282
END:VEVENT
BEGIN:VTIMEZONE
TZID:Europe/Madrid
X-LIC-LOCATION:Europe/Madrid
BEGIN:STANDARD
DTSTART;VALUE=DATE-TIME:20171029T020000
TZNAME:CET
TZOFFSETFROM:+0200
TZOFFSETTO:+0100
END:STANDARD
END:VTIMEZONE
END:VCALENDAR
