BEGIN:VCALENDAR
VERSION:2.0
PRODID:-//Plone.org//NONSGML plone.app.event//EN
X-WR-TIMEZONE:Europe/Madrid
BEGIN:VEVENT
SUMMARY:12a Mostra Internacional de Titelles: Cercavila
DTSTART;TZID=Europe/Madrid;VALUE=DATE-TIME:20180413T000000
DTEND;TZID=Europe/Madrid;VALUE=DATE-TIME:20180413T235959
DTSTAMP;VALUE=DATE-TIME:20260423T152658Z
UID:276cf834c0e24551bb75f3dfcfb1691c@www.molletvalles.cat
CATEGORIES:Música\, cine y espectáculos
CREATED;VALUE=DATE-TIME:20180405T140750Z
LAST-MODIFIED;VALUE=DATE-TIME:20221222T024341Z
LOCATION:Espai Carpes al Parc de les Pruneres
URL:https://www.molletvalles.cat/es/actualidad/agenda/19551
END:VEVENT
BEGIN:VTIMEZONE
TZID:Europe/Madrid
X-LIC-LOCATION:Europe/Madrid
BEGIN:DAYLIGHT
DTSTART;VALUE=DATE-TIME:20180325T030000
TZNAME:CEST
TZOFFSETFROM:+0100
TZOFFSETTO:+0200
END:DAYLIGHT
END:VTIMEZONE
END:VCALENDAR
