BEGIN:VCALENDAR
VERSION:2.0
PRODID:-//Plone.org//NONSGML plone.app.event//EN
X-WR-TIMEZONE:Europe/Madrid
BEGIN:VEVENT
SUMMARY:Sant Jordi 2018. L'hora del conte: "Petita història de Joan Abell
 ó"
DTSTART;TZID=Europe/Madrid;VALUE=DATE-TIME:20180423T000000
DTEND;TZID=Europe/Madrid;VALUE=DATE-TIME:20180423T235959
DTSTAMP;VALUE=DATE-TIME:20260425T124605Z
UID:5fea21fd251741c9b3c1d8e3e4595687@www.molletvalles.cat
CATEGORIES:Infantiles
CREATED;VALUE=DATE-TIME:20180417T101604Z
LAST-MODIFIED;VALUE=DATE-TIME:20221222T024923Z
LOCATION:Pl. Catalunya
URL:https://www.molletvalles.cat/es/actualidad/agenda/19630
END:VEVENT
BEGIN:VTIMEZONE
TZID:Europe/Madrid
X-LIC-LOCATION:Europe/Madrid
BEGIN:DAYLIGHT
DTSTART;VALUE=DATE-TIME:20180325T030000
TZNAME:CEST
TZOFFSETFROM:+0100
TZOFFSETTO:+0200
END:DAYLIGHT
END:VTIMEZONE
END:VCALENDAR
