BEGIN:VCALENDAR
VERSION:2.0
PRODID:-//Plone.org//NONSGML plone.app.event//EN
X-WR-TIMEZONE:Europe/Madrid
BEGIN:VEVENT
SUMMARY:Dia d’Europa 2018: Xerrada en anglès "Mollet a Europa"
DTSTART;TZID=Europe/Madrid;VALUE=DATE-TIME:20180511T000000
DTEND;TZID=Europe/Madrid;VALUE=DATE-TIME:20180511T235959
DTSTAMP;VALUE=DATE-TIME:20260425T123039Z
UID:c4036a4e802940f48191635cb2949c95@www.molletvalles.cat
CATEGORIES:Conferencias
CREATED;VALUE=DATE-TIME:20180423T082428Z
LAST-MODIFIED;VALUE=DATE-TIME:20221222T025039Z
URL:https://www.molletvalles.cat/es/actualidad/agenda/19650
END:VEVENT
BEGIN:VTIMEZONE
TZID:Europe/Madrid
X-LIC-LOCATION:Europe/Madrid
BEGIN:DAYLIGHT
DTSTART;VALUE=DATE-TIME:20180325T030000
TZNAME:CEST
TZOFFSETFROM:+0100
TZOFFSETTO:+0200
END:DAYLIGHT
END:VTIMEZONE
END:VCALENDAR
