BEGIN:VCALENDAR
VERSION:2.0
PRODID:-//Plone.org//NONSGML plone.app.event//EN
X-WR-TIMEZONE:Europe/Madrid
BEGIN:VEVENT
SUMMARY:Revetlla del barri de Santa Rosa
DTSTART;TZID=Europe/Madrid;VALUE=DATE-TIME:20180616T000000
DTEND;TZID=Europe/Madrid;VALUE=DATE-TIME:20180616T235959
DTSTAMP;VALUE=DATE-TIME:20260419T181822Z
UID:99aecc24965d4b708752490448b02113@www.molletvalles.cat
CATEGORIES:Fiestas populares
CREATED;VALUE=DATE-TIME:20180607T081012Z
LAST-MODIFIED;VALUE=DATE-TIME:20221222T025857Z
LOCATION:Carrer Sant Francesc\, entre els carrers Sant Josep i Santiago Ti
 ffon
URL:https://www.molletvalles.cat/es/actualidad/agenda/19782
END:VEVENT
BEGIN:VTIMEZONE
TZID:Europe/Madrid
X-LIC-LOCATION:Europe/Madrid
BEGIN:DAYLIGHT
DTSTART;VALUE=DATE-TIME:20180325T030000
TZNAME:CEST
TZOFFSETFROM:+0100
TZOFFSETTO:+0200
END:DAYLIGHT
END:VTIMEZONE
END:VCALENDAR
