BEGIN:VCALENDAR
VERSION:2.0
PRODID:-//Plone.org//NONSGML plone.app.event//EN
X-WR-TIMEZONE:Europe/Madrid
BEGIN:VEVENT
SUMMARY:Festa Major 2018: Ballada de sardanes\, amb la Cobla Ciutat de Ter
 rassa
DTSTART;TZID=Europe/Madrid;VALUE=DATE-TIME:20180820T000000
DTEND;TZID=Europe/Madrid;VALUE=DATE-TIME:20180820T235959
DTSTAMP;VALUE=DATE-TIME:20260423T121939Z
UID:79fe6c8fce074a199122eb3151eb9892@www.molletvalles.cat
CATEGORIES:Fiestas populares
CREATED;VALUE=DATE-TIME:20180719T083257Z
LAST-MODIFIED;VALUE=DATE-TIME:20221222T030722Z
LOCATION:Plaça Catalunya
URL:https://www.molletvalles.cat/es/actualidad/agenda/19946
END:VEVENT
BEGIN:VTIMEZONE
TZID:Europe/Madrid
X-LIC-LOCATION:Europe/Madrid
BEGIN:DAYLIGHT
DTSTART;VALUE=DATE-TIME:20180325T030000
TZNAME:CEST
TZOFFSETFROM:+0100
TZOFFSETTO:+0200
END:DAYLIGHT
END:VTIMEZONE
END:VCALENDAR
