BEGIN:VCALENDAR
VERSION:2.0
PRODID:-//Plone.org//NONSGML plone.app.event//EN
X-WR-TIMEZONE:Europe/Madrid
BEGIN:VEVENT
SUMMARY:Cicle de Teatre a la Tardor: "Gigoló exprés" (Nuria Castel)\, a 
 càrrec del grup de teatre 7 de Kamping
DTSTART;TZID=Europe/Madrid;VALUE=DATE-TIME:20181021T000000
DTEND;TZID=Europe/Madrid;VALUE=DATE-TIME:20181021T235959
DTSTAMP;VALUE=DATE-TIME:20260419T164205Z
UID:e0d3bc99bb484cd8a7a1a43a5884174a@www.molletvalles.cat
CATEGORIES:Música\, cine y espectáculos
CREATED;VALUE=DATE-TIME:20180924T074450Z
LAST-MODIFIED;VALUE=DATE-TIME:20221222T031318Z
URL:https://www.molletvalles.cat/es/actualidad/agenda/20048
END:VEVENT
BEGIN:VTIMEZONE
TZID:Europe/Madrid
X-LIC-LOCATION:Europe/Madrid
BEGIN:DAYLIGHT
DTSTART;VALUE=DATE-TIME:20180325T030000
TZNAME:CEST
TZOFFSETFROM:+0100
TZOFFSETTO:+0200
END:DAYLIGHT
END:VTIMEZONE
END:VCALENDAR
