BEGIN:VCALENDAR
VERSION:2.0
PRODID:-//Plone.org//NONSGML plone.app.event//EN
X-WR-TIMEZONE:Europe/Madrid
BEGIN:VEVENT
SUMMARY:Festa del Barri de l'Estació del Nord
DTSTART;TZID=Europe/Madrid;VALUE=DATE-TIME:20181020T000000
DTEND;TZID=Europe/Madrid;VALUE=DATE-TIME:20181020T235959
DTSTAMP;VALUE=DATE-TIME:20260419T164204Z
UID:8f37b9b1e190486fa1478ce40dd4cf86@www.molletvalles.cat
CATEGORIES:Fiestas populares
CREATED;VALUE=DATE-TIME:20181009T131555Z
LAST-MODIFIED;VALUE=DATE-TIME:20221222T031743Z
LOCATION:Parc de Can Mulà i Pati Escola Sant Jordi
URL:https://www.molletvalles.cat/es/actualidad/agenda/20123
END:VEVENT
BEGIN:VTIMEZONE
TZID:Europe/Madrid
X-LIC-LOCATION:Europe/Madrid
BEGIN:DAYLIGHT
DTSTART;VALUE=DATE-TIME:20180325T030000
TZNAME:CEST
TZOFFSETFROM:+0100
TZOFFSETTO:+0200
END:DAYLIGHT
END:VTIMEZONE
END:VCALENDAR
