BEGIN:VCALENDAR
VERSION:2.0
PRODID:-//Plone.org//NONSGML plone.app.event//EN
X-WR-TIMEZONE:Europe/Madrid
BEGIN:VEVENT
SUMMARY:Inauguració exposició: Reflexions íntimes. A càrrec de l'Assoc
 iació de Dones CREA
DTSTART;TZID=Europe/Madrid;VALUE=DATE-TIME:20181109T000000
DTEND;TZID=Europe/Madrid;VALUE=DATE-TIME:20181109T235959
DTSTAMP;VALUE=DATE-TIME:20260419T164227Z
UID:2d16dc32999b48988ab7c3948808298e@www.molletvalles.cat
CATEGORIES:Exposiciones y ferias
CREATED;VALUE=DATE-TIME:20181022T110213Z
LAST-MODIFIED;VALUE=DATE-TIME:20221222T032018Z
URL:https://www.molletvalles.cat/es/actualidad/agenda/20158
END:VEVENT
BEGIN:VTIMEZONE
TZID:Europe/Madrid
X-LIC-LOCATION:Europe/Madrid
BEGIN:STANDARD
DTSTART;VALUE=DATE-TIME:20181028T020000
TZNAME:CET
TZOFFSETFROM:+0200
TZOFFSETTO:+0100
END:STANDARD
END:VTIMEZONE
END:VCALENDAR
