BEGIN:VCALENDAR
VERSION:2.0
PRODID:-//Plone.org//NONSGML plone.app.event//EN
X-WR-TIMEZONE:Europe/Madrid
BEGIN:VEVENT
SUMMARY:“Sarau!” a cargo de Cía. Príncipe Totilau
DTSTART;TZID=Europe/Madrid;VALUE=DATE-TIME:20240414T130000
DTEND;TZID=Europe/Madrid;VALUE=DATE-TIME:20240414T140000
DTSTAMP;VALUE=DATE-TIME:20260421T140340Z
UID:1795b131def14c48ac275c2149b752e6@www.molletvalles.cat
CATEGORIES:Artes escénicas,Infantil
CREATED;VALUE=DATE-TIME:20240408T071513Z
DESCRIPTION:MITMO 2024
LAST-MODIFIED;VALUE=DATE-TIME:20240410T095259Z
LOCATION:Plaza Prat de la Riba (si llueve\, Mercat Vell)
URL:https://www.molletvalles.cat/es/actualidad/agenda/201csarau-201d-a-car
 go-de-cia-principe-totilau
END:VEVENT
BEGIN:VTIMEZONE
TZID:Europe/Madrid
X-LIC-LOCATION:Europe/Madrid
BEGIN:DAYLIGHT
DTSTART;VALUE=DATE-TIME:20240331T030000
TZNAME:CEST
TZOFFSETFROM:+0100
TZOFFSETTO:+0200
END:DAYLIGHT
END:VTIMEZONE
END:VCALENDAR
