BEGIN:VCALENDAR
VERSION:2.0
PRODID:-//Plone.org//NONSGML plone.app.event//EN
X-WR-TIMEZONE:Europe/Madrid
BEGIN:VEVENT
SUMMARY:Concert de Fi d'Any
DTSTART;TZID=Europe/Madrid;VALUE=DATE-TIME:20181229T000000
DTEND;TZID=Europe/Madrid;VALUE=DATE-TIME:20181229T235959
DTSTAMP;VALUE=DATE-TIME:20260419T164204Z
UID:4bde5546119d45c7bd7ce34d55c29be6@www.molletvalles.cat
CATEGORIES:Música\, cine y espectáculos
CREATED;VALUE=DATE-TIME:20181114T080204Z
LAST-MODIFIED;VALUE=DATE-TIME:20221222T032437Z
URL:https://www.molletvalles.cat/es/actualidad/agenda/20246
END:VEVENT
BEGIN:VTIMEZONE
TZID:Europe/Madrid
X-LIC-LOCATION:Europe/Madrid
BEGIN:STANDARD
DTSTART;VALUE=DATE-TIME:20181028T020000
TZNAME:CET
TZOFFSETFROM:+0200
TZOFFSETTO:+0100
END:STANDARD
END:VTIMEZONE
END:VCALENDAR
