BEGIN:VCALENDAR
VERSION:2.0
PRODID:-//Plone.org//NONSGML plone.app.event//EN
X-WR-TIMEZONE:Europe/Madrid
BEGIN:VEVENT
SUMMARY:L'art és un joc al Museu Abelló: Taller d'scrapbooking
DTSTART;TZID=Europe/Madrid;VALUE=DATE-TIME:20190103T000000
DTEND;TZID=Europe/Madrid;VALUE=DATE-TIME:20190103T235959
DTSTAMP;VALUE=DATE-TIME:20260425T124503Z
UID:29afbd6b81564169990509b4b2465090@www.molletvalles.cat
CATEGORIES:Infantiles
CREATED;VALUE=DATE-TIME:20181210T135136Z
LAST-MODIFIED;VALUE=DATE-TIME:20221222T033155Z
URL:https://www.molletvalles.cat/es/actualidad/agenda/20372
END:VEVENT
BEGIN:VTIMEZONE
TZID:Europe/Madrid
X-LIC-LOCATION:Europe/Madrid
BEGIN:STANDARD
DTSTART;VALUE=DATE-TIME:20181028T020000
TZNAME:CET
TZOFFSETFROM:+0200
TZOFFSETTO:+0100
END:STANDARD
END:VTIMEZONE
END:VCALENDAR
