BEGIN:VCALENDAR
VERSION:2.0
PRODID:-//Plone.org//NONSGML plone.app.event//EN
X-WR-TIMEZONE:Europe/Madrid
BEGIN:VEVENT
SUMMARY:Festa Major de Sant Vicenç 2019: Cercavila del Ball de Diables de
  Mollet
DTSTART;TZID=Europe/Madrid;VALUE=DATE-TIME:20190119T000000
DTEND;TZID=Europe/Madrid;VALUE=DATE-TIME:20190119T235959
DTSTAMP;VALUE=DATE-TIME:20260419T181816Z
UID:46af336d31914be2b742076f7dee5925@www.molletvalles.cat
CATEGORIES:Fiestas populares
CREATED;VALUE=DATE-TIME:20190110T130823Z
LAST-MODIFIED;VALUE=DATE-TIME:20221222T033426Z
LOCATION:Rambla Nova amb Via Ronda
URL:https://www.molletvalles.cat/es/actualidad/agenda/20430
END:VEVENT
BEGIN:VTIMEZONE
TZID:Europe/Madrid
X-LIC-LOCATION:Europe/Madrid
BEGIN:STANDARD
DTSTART;VALUE=DATE-TIME:20181028T020000
TZNAME:CET
TZOFFSETFROM:+0200
TZOFFSETTO:+0100
END:STANDARD
END:VTIMEZONE
END:VCALENDAR
