BEGIN:VCALENDAR
VERSION:2.0
PRODID:-//Plone.org//NONSGML plone.app.event//EN
X-WR-TIMEZONE:Europe/Madrid
BEGIN:VEVENT
SUMMARY:Jornada de presentació de treballs de recerca feministes
DTSTART;TZID=Europe/Madrid;VALUE=DATE-TIME:20190329T000000
DTEND;TZID=Europe/Madrid;VALUE=DATE-TIME:20190329T235959
DTSTAMP;VALUE=DATE-TIME:20260425T124611Z
UID:32527f66b2534bbd93f4b022d30ad417@www.molletvalles.cat
CATEGORIES:Conferencias
CREATED;VALUE=DATE-TIME:20190222T093609Z
LAST-MODIFIED;VALUE=DATE-TIME:20221222T034713Z
URL:https://www.molletvalles.cat/es/actualidad/agenda/20646
END:VEVENT
BEGIN:VTIMEZONE
TZID:Europe/Madrid
X-LIC-LOCATION:Europe/Madrid
BEGIN:STANDARD
DTSTART;VALUE=DATE-TIME:20181028T020000
TZNAME:CET
TZOFFSETFROM:+0200
TZOFFSETTO:+0100
END:STANDARD
END:VTIMEZONE
END:VCALENDAR
