BEGIN:VCALENDAR
VERSION:2.0
PRODID:-//Plone.org//NONSGML plone.app.event//EN
X-WR-TIMEZONE:Europe/Madrid
BEGIN:VEVENT
SUMMARY:PLANTA’M “compromís de futur”
DTSTART;TZID=Europe/Madrid;VALUE=DATE-TIME:20190316T000000
DTEND;TZID=Europe/Madrid;VALUE=DATE-TIME:20190316T235959
DTSTAMP;VALUE=DATE-TIME:20260425T124503Z
UID:447bb125f7a747cea57bdd3f7bb496f4@www.molletvalles.cat
CATEGORIES:Actos diversos
CREATED;VALUE=DATE-TIME:20190304T131340Z
LAST-MODIFIED;VALUE=DATE-TIME:20221222T034830Z
LOCATION:Av. Rívoli (costat aparcament Camp Germans Gonzalvo)
URL:https://www.molletvalles.cat/es/actualidad/agenda/20672
END:VEVENT
BEGIN:VTIMEZONE
TZID:Europe/Madrid
X-LIC-LOCATION:Europe/Madrid
BEGIN:STANDARD
DTSTART;VALUE=DATE-TIME:20181028T020000
TZNAME:CET
TZOFFSETFROM:+0200
TZOFFSETTO:+0100
END:STANDARD
END:VTIMEZONE
END:VCALENDAR
