BEGIN:VCALENDAR
VERSION:2.0
PRODID:-//Plone.org//NONSGML plone.app.event//EN
X-WR-TIMEZONE:Europe/Madrid
BEGIN:VEVENT
SUMMARY:Desfilada de moda
DTSTART;TZID=Europe/Madrid;VALUE=DATE-TIME:20190331T000000
DTEND;TZID=Europe/Madrid;VALUE=DATE-TIME:20190331T235959
DTSTAMP;VALUE=DATE-TIME:20260425T161930Z
UID:c90d56f8ed5c473186ba7939a051fc7c@www.molletvalles.cat
CATEGORIES:Actos diversos
CREATED;VALUE=DATE-TIME:20190319T090545Z
LAST-MODIFIED;VALUE=DATE-TIME:20221222T035115Z
URL:https://www.molletvalles.cat/es/actualidad/agenda/20717
END:VEVENT
BEGIN:VTIMEZONE
TZID:Europe/Madrid
X-LIC-LOCATION:Europe/Madrid
BEGIN:STANDARD
DTSTART;VALUE=DATE-TIME:20181028T020000
TZNAME:CET
TZOFFSETFROM:+0200
TZOFFSETTO:+0100
END:STANDARD
BEGIN:DAYLIGHT
DTSTART;VALUE=DATE-TIME:20190331T030000
TZNAME:CEST
TZOFFSETFROM:+0100
TZOFFSETTO:+0200
END:DAYLIGHT
END:VTIMEZONE
END:VCALENDAR
