BEGIN:VCALENDAR
VERSION:2.0
PRODID:-//Plone.org//NONSGML plone.app.event//EN
X-WR-TIMEZONE:Europe/Madrid
BEGIN:VEVENT
SUMMARY:Club de lectura: "Una dolça cançó" de Leïla Slimani
DTSTART;TZID=Europe/Madrid;VALUE=DATE-TIME:20190402T000000
DTEND;TZID=Europe/Madrid;VALUE=DATE-TIME:20190402T235959
DTSTAMP;VALUE=DATE-TIME:20260423T121938Z
UID:ecae4d9144174d229978bf1cb6660505@www.molletvalles.cat
CATEGORIES:Actos diversos
CREATED;VALUE=DATE-TIME:20190321T073617Z
LAST-MODIFIED;VALUE=DATE-TIME:20221222T035134Z
URL:https://www.molletvalles.cat/es/actualidad/agenda/20723
END:VEVENT
BEGIN:VTIMEZONE
TZID:Europe/Madrid
X-LIC-LOCATION:Europe/Madrid
BEGIN:DAYLIGHT
DTSTART;VALUE=DATE-TIME:20190331T030000
TZNAME:CEST
TZOFFSETFROM:+0100
TZOFFSETTO:+0200
END:DAYLIGHT
END:VTIMEZONE
END:VCALENDAR
