BEGIN:VCALENDAR
VERSION:2.0
PRODID:-//Plone.org//NONSGML plone.app.event//EN
X-WR-TIMEZONE:Europe/Madrid
BEGIN:VEVENT
SUMMARY:Les Jornades del síndic: "Ètica i mitjans de comunicació"
DTSTART;TZID=Europe/Madrid;VALUE=DATE-TIME:20190502T000000
DTEND;TZID=Europe/Madrid;VALUE=DATE-TIME:20190502T235959
DTSTAMP;VALUE=DATE-TIME:20260425T124503Z
UID:381e30fcf7204dda9f3d3da9c4fe64f5@www.molletvalles.cat
CATEGORIES:Conferencias
CREATED;VALUE=DATE-TIME:20190423T123232Z
LAST-MODIFIED;VALUE=DATE-TIME:20221222T035644Z
URL:https://www.molletvalles.cat/es/actualidad/agenda/20802
END:VEVENT
BEGIN:VTIMEZONE
TZID:Europe/Madrid
X-LIC-LOCATION:Europe/Madrid
BEGIN:DAYLIGHT
DTSTART;VALUE=DATE-TIME:20190331T030000
TZNAME:CEST
TZOFFSETFROM:+0100
TZOFFSETTO:+0200
END:DAYLIGHT
END:VTIMEZONE
END:VCALENDAR
