BEGIN:VCALENDAR
VERSION:2.0
PRODID:-//Plone.org//NONSGML plone.app.event//EN
X-WR-TIMEZONE:Europe/Madrid
BEGIN:VEVENT
SUMMARY:Sant Joan 2019: Cercavila amb la Colla Gegantera\, Castellers de M
 ollet i el Club Muntanyenc per rebre la Flama del Canigó
DTSTART;TZID=Europe/Madrid;VALUE=DATE-TIME:20190623T000000
DTEND;TZID=Europe/Madrid;VALUE=DATE-TIME:20190623T235959
DTSTAMP;VALUE=DATE-TIME:20260425T123041Z
UID:b3c95a33647c4f5caf997315cbd1042c@www.molletvalles.cat
CATEGORIES:Fiestas populares
CREATED;VALUE=DATE-TIME:20190614T085815Z
LAST-MODIFIED;VALUE=DATE-TIME:20221222T040637Z
LOCATION:Rambla Nova / Via Ronda
URL:https://www.molletvalles.cat/es/actualidad/agenda/20952
END:VEVENT
BEGIN:VTIMEZONE
TZID:Europe/Madrid
X-LIC-LOCATION:Europe/Madrid
BEGIN:DAYLIGHT
DTSTART;VALUE=DATE-TIME:20190331T030000
TZNAME:CEST
TZOFFSETFROM:+0100
TZOFFSETTO:+0200
END:DAYLIGHT
END:VTIMEZONE
END:VCALENDAR
