BEGIN:VCALENDAR
VERSION:2.0
PRODID:-//Plone.org//NONSGML plone.app.event//EN
X-WR-TIMEZONE:Europe/Madrid
BEGIN:VEVENT
SUMMARY:Festa Major de Gallecs
DTSTART;TZID=Europe/Madrid;VALUE=DATE-TIME:20190718T000000
DTEND;TZID=Europe/Madrid;VALUE=DATE-TIME:20190718T235959
DTSTAMP;VALUE=DATE-TIME:20260423T171019Z
UID:d677959a91cd4987809db960b95fad70@www.molletvalles.cat
CATEGORIES:Fiestas populares
CREATED;VALUE=DATE-TIME:20190704T060527Z
LAST-MODIFIED;VALUE=DATE-TIME:20221222T040848Z
LOCATION:Plaça de l'Esglèsia de Gallecs i Era de Can Querol
URL:https://www.molletvalles.cat/es/actualidad/agenda/20982
END:VEVENT
BEGIN:VTIMEZONE
TZID:Europe/Madrid
X-LIC-LOCATION:Europe/Madrid
BEGIN:DAYLIGHT
DTSTART;VALUE=DATE-TIME:20190331T030000
TZNAME:CEST
TZOFFSETFROM:+0100
TZOFFSETTO:+0200
END:DAYLIGHT
END:VTIMEZONE
END:VCALENDAR
