BEGIN:VCALENDAR
VERSION:2.0
PRODID:-//Plone.org//NONSGML plone.app.event//EN
X-WR-TIMEZONE:Europe/Madrid
BEGIN:VEVENT
SUMMARY:Festa Major 2019. Tapes Tour 2019. Acompanyament de Tirant lo Band
DTSTART;TZID=Europe/Madrid;VALUE=DATE-TIME:20190816T000000
DTEND;TZID=Europe/Madrid;VALUE=DATE-TIME:20190816T235959
DTSTAMP;VALUE=DATE-TIME:20260419T164203Z
UID:37a73f428fda4066b5524fab58c46c20@www.molletvalles.cat
CATEGORIES:Fiestas populares
CREATED;VALUE=DATE-TIME:20190715T064840Z
LAST-MODIFIED;VALUE=DATE-TIME:20221222T041303Z
LOCATION:Plaça Prat de la Riba i recorregut
URL:https://www.molletvalles.cat/es/actualidad/agenda/21033
END:VEVENT
BEGIN:VTIMEZONE
TZID:Europe/Madrid
X-LIC-LOCATION:Europe/Madrid
BEGIN:DAYLIGHT
DTSTART;VALUE=DATE-TIME:20190331T030000
TZNAME:CEST
TZOFFSETFROM:+0100
TZOFFSETTO:+0200
END:DAYLIGHT
END:VTIMEZONE
END:VCALENDAR
