BEGIN:VCALENDAR
VERSION:2.0
PRODID:-//Plone.org//NONSGML plone.app.event//EN
X-WR-TIMEZONE:Europe/Madrid
BEGIN:VEVENT
SUMMARY:Festa Major 2019: Visita comentada a l'exposició "Un món sense m
 apes. Els viatges de Joan Abelló"
DTSTART;TZID=Europe/Madrid;VALUE=DATE-TIME:20190819T000000
DTEND;TZID=Europe/Madrid;VALUE=DATE-TIME:20190819T235959
DTSTAMP;VALUE=DATE-TIME:20260421T174536Z
UID:d8a78954e1f84c24b124d7d61412dd05@www.molletvalles.cat
CATEGORIES:Exposiciones y ferias
CREATED;VALUE=DATE-TIME:20190717T121944Z
LAST-MODIFIED;VALUE=DATE-TIME:20221222T041736Z
URL:https://www.molletvalles.cat/es/actualidad/agenda/21093
END:VEVENT
BEGIN:VTIMEZONE
TZID:Europe/Madrid
X-LIC-LOCATION:Europe/Madrid
BEGIN:DAYLIGHT
DTSTART;VALUE=DATE-TIME:20190331T030000
TZNAME:CEST
TZOFFSETFROM:+0100
TZOFFSETTO:+0200
END:DAYLIGHT
END:VTIMEZONE
END:VCALENDAR
