BEGIN:VCALENDAR
VERSION:2.0
PRODID:-//Plone.org//NONSGML plone.app.event//EN
X-WR-TIMEZONE:Europe/Madrid
BEGIN:VEVENT
SUMMARY:Exposició: "10 anys apropant l'art"
DTSTART;TZID=Europe/Madrid;VALUE=DATE-TIME:20191112T000000
DTEND;TZID=Europe/Madrid;VALUE=DATE-TIME:20191112T235959
DTSTAMP;VALUE=DATE-TIME:20260423T171018Z
UID:7579afdcd1364ad790fd83efb269adc5@www.molletvalles.cat
CATEGORIES:Exposiciones y ferias
CREATED;VALUE=DATE-TIME:20190909T122000Z
LAST-MODIFIED;VALUE=DATE-TIME:20221222T042147Z
URL:https://www.molletvalles.cat/es/actualidad/agenda/21157
END:VEVENT
BEGIN:VTIMEZONE
TZID:Europe/Madrid
X-LIC-LOCATION:Europe/Madrid
BEGIN:STANDARD
DTSTART;VALUE=DATE-TIME:20191027T020000
TZNAME:CET
TZOFFSETFROM:+0200
TZOFFSETTO:+0100
END:STANDARD
END:VTIMEZONE
END:VCALENDAR
