BEGIN:VCALENDAR
VERSION:2.0
PRODID:-//Plone.org//NONSGML plone.app.event//EN
X-WR-TIMEZONE:Europe/Madrid
BEGIN:VEVENT
SUMMARY:Hora del conte: "Ropopompom\, mengem torrons" amb Pati de Contes
DTSTART;TZID=Europe/Madrid;VALUE=DATE-TIME:20191220T000000
DTEND;TZID=Europe/Madrid;VALUE=DATE-TIME:20191220T235959
DTSTAMP;VALUE=DATE-TIME:20260419T164227Z
UID:f1a8affdb4db4a7a97648a693fc069a3@www.molletvalles.cat
CATEGORIES:Infantiles
CREATED;VALUE=DATE-TIME:20191203T090552Z
LAST-MODIFIED;VALUE=DATE-TIME:20221222T043830Z
URL:https://www.molletvalles.cat/es/actualidad/agenda/21419
END:VEVENT
BEGIN:VTIMEZONE
TZID:Europe/Madrid
X-LIC-LOCATION:Europe/Madrid
BEGIN:STANDARD
DTSTART;VALUE=DATE-TIME:20191027T020000
TZNAME:CET
TZOFFSETFROM:+0200
TZOFFSETTO:+0100
END:STANDARD
END:VTIMEZONE
END:VCALENDAR
