BEGIN:VCALENDAR
VERSION:2.0
PRODID:-//Plone.org//NONSGML plone.app.event//EN
X-WR-TIMEZONE:Europe/Madrid
BEGIN:VEVENT
SUMMARY:Sant Vicenç 2020: Final de Festa de la XXVI Trobada de Gegants
DTSTART;TZID=Europe/Madrid;VALUE=DATE-TIME:20200126T000000
DTEND;TZID=Europe/Madrid;VALUE=DATE-TIME:20200126T235959
DTSTAMP;VALUE=DATE-TIME:20260421T163534Z
UID:e7912170f72441aa9f24527bf85e4bb3@www.molletvalles.cat
CATEGORIES:Fiestas populares
CREATED;VALUE=DATE-TIME:20200115T130405Z
LAST-MODIFIED;VALUE=DATE-TIME:20221222T044712Z
LOCATION:Plaça Prat de la Riba
URL:https://www.molletvalles.cat/es/actualidad/agenda/21576
END:VEVENT
BEGIN:VTIMEZONE
TZID:Europe/Madrid
X-LIC-LOCATION:Europe/Madrid
BEGIN:STANDARD
DTSTART;VALUE=DATE-TIME:20191027T020000
TZNAME:CET
TZOFFSETFROM:+0200
TZOFFSETTO:+0100
END:STANDARD
END:VTIMEZONE
END:VCALENDAR
