BEGIN:VCALENDAR
VERSION:2.0
PRODID:-//Plone.org//NONSGML plone.app.event//EN
X-WR-TIMEZONE:Europe/Madrid
BEGIN:VEVENT
SUMMARY:Carnaval 2020: Visita del Carnestoltes a les escoles
DTSTART;TZID=Europe/Madrid;VALUE=DATE-TIME:20200218T000000
DTEND;TZID=Europe/Madrid;VALUE=DATE-TIME:20200218T235959
DTSTAMP;VALUE=DATE-TIME:20260421T173035Z
UID:85e22b1d1b8042aabf46a191a8c2f9c3@www.molletvalles.cat
CATEGORIES:Infantiles
CREATED;VALUE=DATE-TIME:20200211T123619Z
LAST-MODIFIED;VALUE=DATE-TIME:20221222T044957Z
URL:https://www.molletvalles.cat/es/actualidad/agenda/21640
END:VEVENT
BEGIN:VTIMEZONE
TZID:Europe/Madrid
X-LIC-LOCATION:Europe/Madrid
BEGIN:STANDARD
DTSTART;VALUE=DATE-TIME:20191027T020000
TZNAME:CET
TZOFFSETFROM:+0200
TZOFFSETTO:+0100
END:STANDARD
END:VTIMEZONE
END:VCALENDAR
