BEGIN:VCALENDAR
VERSION:2.0
PRODID:-//Plone.org//NONSGML plone.app.event//EN
X-WR-TIMEZONE:Europe/Madrid
BEGIN:VEVENT
SUMMARY:Presentació del llibre: "Poder besar el cielo"
DTSTART;TZID=Europe/Madrid;VALUE=DATE-TIME:20210520T000000
DTEND;TZID=Europe/Madrid;VALUE=DATE-TIME:20210520T235959
DTSTAMP;VALUE=DATE-TIME:20260425T124603Z
UID:d073c8fd3a8c4b268c6787f87657ef7c@www.molletvalles.cat
CATEGORIES:Conferencias
CREATED;VALUE=DATE-TIME:20210517T081520Z
LAST-MODIFIED;VALUE=DATE-TIME:20221222T045708Z
URL:https://www.molletvalles.cat/es/actualidad/agenda/21847
END:VEVENT
BEGIN:VTIMEZONE
TZID:Europe/Madrid
X-LIC-LOCATION:Europe/Madrid
BEGIN:DAYLIGHT
DTSTART;VALUE=DATE-TIME:20210328T030000
TZNAME:CEST
TZOFFSETFROM:+0100
TZOFFSETTO:+0200
END:DAYLIGHT
END:VTIMEZONE
END:VCALENDAR
