BEGIN:VCALENDAR
VERSION:2.0
PRODID:-//Plone.org//NONSGML plone.app.event//EN
X-WR-TIMEZONE:Europe/Madrid
BEGIN:VEVENT
SUMMARY:Teatre familiar: Adéu Peter Pan! a càrec de la Cia. Festuc Teatr
 e
DTSTART;TZID=Europe/Madrid;VALUE=DATE-TIME:20211017T000000
DTEND;TZID=Europe/Madrid;VALUE=DATE-TIME:20211017T235959
DTSTAMP;VALUE=DATE-TIME:20260421T160854Z
UID:c9d715377bca4f1aaa72cb9a565e13dc@www.molletvalles.cat
CATEGORIES:Infantiles
CREATED;VALUE=DATE-TIME:20211008T095413Z
LAST-MODIFIED;VALUE=DATE-TIME:20221222T050809Z
URL:https://www.molletvalles.cat/es/actualidad/agenda/21980
END:VEVENT
BEGIN:VTIMEZONE
TZID:Europe/Madrid
X-LIC-LOCATION:Europe/Madrid
BEGIN:DAYLIGHT
DTSTART;VALUE=DATE-TIME:20210328T030000
TZNAME:CEST
TZOFFSETFROM:+0100
TZOFFSETTO:+0200
END:DAYLIGHT
END:VTIMEZONE
END:VCALENDAR
