BEGIN:VCALENDAR
VERSION:2.0
PRODID:-//Plone.org//NONSGML plone.app.event//EN
X-WR-TIMEZONE:Europe/Madrid
BEGIN:VEVENT
SUMMARY:Taller de fotografia: Model nu\, conduït per la fotògrafa de Mol
 let Judith Vizcarra
DTSTART;TZID=Europe/Madrid;VALUE=DATE-TIME:20211128T000000
DTEND;TZID=Europe/Madrid;VALUE=DATE-TIME:20211128T235959
DTSTAMP;VALUE=DATE-TIME:20260423T140753Z
UID:bec89a47f4554c17be5f46533c322c95@www.molletvalles.cat
CATEGORIES:Cursos y talleres
CREATED;VALUE=DATE-TIME:20211109T101405Z
LAST-MODIFIED;VALUE=DATE-TIME:20221222T072308Z
URL:https://www.molletvalles.cat/es/actualidad/agenda/22028
END:VEVENT
BEGIN:VTIMEZONE
TZID:Europe/Madrid
X-LIC-LOCATION:Europe/Madrid
BEGIN:STANDARD
DTSTART;VALUE=DATE-TIME:20211031T020000
TZNAME:CET
TZOFFSETFROM:+0200
TZOFFSETTO:+0100
END:STANDARD
END:VTIMEZONE
END:VCALENDAR
