BEGIN:VCALENDAR
VERSION:2.0
PRODID:-//Plone.org//NONSGML plone.app.event//EN
X-WR-TIMEZONE:Europe/Madrid
BEGIN:VEVENT
SUMMARY:Descobriment de la placa commemorativa de la fundació de la penya
  l’any 1971
DTSTART;TZID=Europe/Madrid;VALUE=DATE-TIME:20220515T000000
DTEND;TZID=Europe/Madrid;VALUE=DATE-TIME:20220515T235959
DTSTAMP;VALUE=DATE-TIME:20260419T164228Z
UID:3b1e0317d545455493e1c9a4c553de5e@www.molletvalles.cat
CATEGORIES:Deportes
CREATED;VALUE=DATE-TIME:20220513T070703Z
LAST-MODIFIED;VALUE=DATE-TIME:20221222T074442Z
LOCATION:Cal Marfà       
URL:https://www.molletvalles.cat/es/actualidad/agenda/22356
END:VEVENT
BEGIN:VTIMEZONE
TZID:Europe/Madrid
X-LIC-LOCATION:Europe/Madrid
BEGIN:DAYLIGHT
DTSTART;VALUE=DATE-TIME:20220327T030000
TZNAME:CEST
TZOFFSETFROM:+0100
TZOFFSETTO:+0200
END:DAYLIGHT
END:VTIMEZONE
END:VCALENDAR
