BEGIN:VCALENDAR
VERSION:2.0
PRODID:-//Plone.org//NONSGML plone.app.event//EN
X-WR-TIMEZONE:Europe/Madrid
BEGIN:VEVENT
SUMMARY:40a Castanyada Sardanista
DTSTART;TZID=Europe/Madrid;VALUE=DATE-TIME:20221101T000000
DTEND;TZID=Europe/Madrid;VALUE=DATE-TIME:20221101T235959
DTSTAMP;VALUE=DATE-TIME:20260419T164202Z
UID:948d80dc15ea4b4285748eb093867e6d@www.molletvalles.cat
CATEGORIES:Fiestas populares
CREATED;VALUE=DATE-TIME:20221019T092247Z
LAST-MODIFIED;VALUE=DATE-TIME:20221222T081504Z
URL:https://www.molletvalles.cat/es/actualidad/agenda/22728
END:VEVENT
BEGIN:VTIMEZONE
TZID:Europe/Madrid
X-LIC-LOCATION:Europe/Madrid
BEGIN:STANDARD
DTSTART;VALUE=DATE-TIME:20221030T020000
TZNAME:CET
TZOFFSETFROM:+0200
TZOFFSETTO:+0100
END:STANDARD
END:VTIMEZONE
END:VCALENDAR
