BEGIN:VCALENDAR
VERSION:2.0
PRODID:-//Plone.org//NONSGML plone.app.event//EN
X-WR-TIMEZONE:Europe/Madrid
BEGIN:VEVENT
SUMMARY:XXX Diada Castellera: Animació amb Jaume Barri
DTSTART;TZID=Europe/Madrid;VALUE=DATE-TIME:20221028T000000
DTEND;TZID=Europe/Madrid;VALUE=DATE-TIME:20221028T235959
DTSTAMP;VALUE=DATE-TIME:20260425T161900Z
UID:ca54f78cf0f24df6a2585de564a1c2f0@www.molletvalles.cat
CATEGORIES:Fiestas populares
CREATED;VALUE=DATE-TIME:20221021T084002Z
LAST-MODIFIED;VALUE=DATE-TIME:20221222T081615Z
URL:https://www.molletvalles.cat/es/actualidad/agenda/22746
END:VEVENT
BEGIN:VTIMEZONE
TZID:Europe/Madrid
X-LIC-LOCATION:Europe/Madrid
BEGIN:DAYLIGHT
DTSTART;VALUE=DATE-TIME:20220327T030000
TZNAME:CEST
TZOFFSETFROM:+0100
TZOFFSETTO:+0200
END:DAYLIGHT
END:VTIMEZONE
END:VCALENDAR
