BEGIN:VCALENDAR
VERSION:2.0
PRODID:-//Plone.org//NONSGML plone.app.event//EN
X-WR-TIMEZONE:Europe/Madrid
BEGIN:VEVENT
SUMMARY:"La vida es una fuerza oscura". A cargo de Colectivo Ameno y Danil
 o Facelli. CRA'P
DTSTART;TZID=Europe/Madrid;VALUE=DATE-TIME:20230128T210000
DTEND;TZID=Europe/Madrid;VALUE=DATE-TIME:20230128T210000
DTSTAMP;VALUE=DATE-TIME:20260423T171032Z
UID:57b01425b43042f283c9a65260aa49b4@www.molletvalles.cat
CATEGORIES:Música\, cine y espectáculos
CREATED;VALUE=DATE-TIME:20221024T110222Z
DESCRIPTION:ARTES Y ESCENA
LAST-MODIFIED;VALUE=DATE-TIME:20230209T084640Z
LOCATION:Teatro Municipal Can Gomà
URL:https://www.molletvalles.cat/es/actualidad/agenda/22760
END:VEVENT
BEGIN:VTIMEZONE
TZID:Europe/Madrid
X-LIC-LOCATION:Europe/Madrid
BEGIN:STANDARD
DTSTART;VALUE=DATE-TIME:20221030T020000
TZNAME:CET
TZOFFSETFROM:+0200
TZOFFSETTO:+0100
END:STANDARD
END:VTIMEZONE
END:VCALENDAR
