BEGIN:VCALENDAR
VERSION:2.0
PRODID:-//Plone.org//NONSGML plone.app.event//EN
X-WR-TIMEZONE:Europe/Madrid
BEGIN:VEVENT
SUMMARY:40ª Feria de Artesanos: Noche de música con Canya d'Or. Baile de
  gralles
DTSTART;TZID=Europe/Madrid;VALUE=DATE-TIME:20240914T223000
DTEND;TZID=Europe/Madrid;VALUE=DATE-TIME:20240914T233000
DTSTAMP;VALUE=DATE-TIME:20260421T175343Z
UID:6d6bf3178989421a8b66241a8d9f1f60@www.molletvalles.cat
CATEGORIES:Música
CREATED;VALUE=DATE-TIME:20240906T075006Z
LAST-MODIFIED;VALUE=DATE-TIME:20240906T075027Z
LOCATION:Plaza de la Artesanía (Mercat Vell\, si llueve)
URL:https://www.molletvalles.cat/es/actualidad/agenda/40a-feria-de-artesan
 os-noche-de-musica-con-canya-dor-baile-de-gralles
END:VEVENT
BEGIN:VTIMEZONE
TZID:Europe/Madrid
X-LIC-LOCATION:Europe/Madrid
BEGIN:DAYLIGHT
DTSTART;VALUE=DATE-TIME:20240331T030000
TZNAME:CEST
TZOFFSETFROM:+0100
TZOFFSETTO:+0200
END:DAYLIGHT
END:VTIMEZONE
END:VCALENDAR
