BEGIN:VCALENDAR
VERSION:2.0
PRODID:-//Plone.org//NONSGML plone.app.event//EN
X-WR-TIMEZONE:Europe/Madrid
BEGIN:VEVENT
SUMMARY:40ª Feria de Artesanos: Sardinada a cargo de los vecinos y vecina
 s de la Feria
DTSTART;TZID=Europe/Madrid;VALUE=DATE-TIME:20240913T210000
DTEND;TZID=Europe/Madrid;VALUE=DATE-TIME:20240913T220000
DTSTAMP;VALUE=DATE-TIME:20260425T121842Z
UID:8182498eecb64c7a88060c3ea5ba3114@www.molletvalles.cat
CATEGORIES:Fiestas populares
CREATED;VALUE=DATE-TIME:20240905T104750Z
LAST-MODIFIED;VALUE=DATE-TIME:20240905T105949Z
LOCATION:Plaza de la Artesanía
URL:https://www.molletvalles.cat/es/actualidad/agenda/40a-feria-de-artesan
 os-sardinada-a-cargo-de-los-vecinos-y-vecinas-de-la-feria
END:VEVENT
BEGIN:VTIMEZONE
TZID:Europe/Madrid
X-LIC-LOCATION:Europe/Madrid
BEGIN:DAYLIGHT
DTSTART;VALUE=DATE-TIME:20240331T030000
TZNAME:CEST
TZOFFSETFROM:+0100
TZOFFSETTO:+0200
END:DAYLIGHT
END:VTIMEZONE
END:VCALENDAR
