BEGIN:VCALENDAR
VERSION:2.0
PRODID:-//Plone.org//NONSGML plone.app.event//EN
X-WR-TIMEZONE:Europe/Madrid
BEGIN:VEVENT
SUMMARY:40a Feria de Artesanos: Talleres artesanales para niños
DTSTART;TZID=Europe/Madrid;VALUE=DATE-TIME:20240914T110000
DTEND;TZID=Europe/Madrid;VALUE=DATE-TIME:20240914T130000
DTSTAMP;VALUE=DATE-TIME:20260419T162031Z
UID:bc557b46b85647199c38b6da19e460d5@www.molletvalles.cat
CATEGORIES:Cursos y talleres
CREATED;VALUE=DATE-TIME:20240905T115217Z
LAST-MODIFIED;VALUE=DATE-TIME:20240905T115305Z
LOCATION:Plaza de la Artesanía
URL:https://www.molletvalles.cat/es/actualidad/agenda/40a-feria-de-artesan
 os-talleres-artesanales-para-ninos
END:VEVENT
BEGIN:VTIMEZONE
TZID:Europe/Madrid
X-LIC-LOCATION:Europe/Madrid
BEGIN:DAYLIGHT
DTSTART;VALUE=DATE-TIME:20240331T030000
TZNAME:CEST
TZOFFSETFROM:+0100
TZOFFSETTO:+0200
END:DAYLIGHT
END:VTIMEZONE
END:VCALENDAR
