BEGIN:VCALENDAR
VERSION:2.0
PRODID:-//Plone.org//NONSGML plone.app.event//EN
X-WR-TIMEZONE:Europe/Madrid
BEGIN:VEVENT
SUMMARY:46º Aniversario del Centro Cultural Andaluz
DTSTART;TZID=Europe/Madrid;VALUE=DATE-TIME:20250405T183000
DTEND;TZID=Europe/Madrid;VALUE=DATE-TIME:20250405T193000
DTSTAMP;VALUE=DATE-TIME:20260423T122727Z
UID:f86a4238f0d54449ad674ebfcb17b620@www.molletvalles.cat
CATEGORIES:Artes escènicas
CREATED;VALUE=DATE-TIME:20250324T131330Z
LAST-MODIFIED;VALUE=DATE-TIME:20250324T131426Z
URL:https://www.molletvalles.cat/es/actualidad/agenda/46o-aniversario-del-
 centro-cultural-andaluz
END:VEVENT
BEGIN:VTIMEZONE
TZID:Europe/Madrid
X-LIC-LOCATION:Europe/Madrid
BEGIN:DAYLIGHT
DTSTART;VALUE=DATE-TIME:20250330T030000
TZNAME:CEST
TZOFFSETFROM:+0100
TZOFFSETTO:+0200
END:DAYLIGHT
END:VTIMEZONE
END:VCALENDAR
