BEGIN:VCALENDAR
VERSION:2.0
PRODID:-//Plone.org//NONSGML plone.app.event//EN
X-WR-TIMEZONE:Europe/Madrid
BEGIN:VEVENT
SUMMARY:Actividad de Txikung con motivo del Día Mundial de la Fibromialgi
 a y Síndrome de la Fatiga Crónica
DTSTART;TZID=Europe/Madrid;VALUE=DATE-TIME:20240511T120000
DTEND;TZID=Europe/Madrid;VALUE=DATE-TIME:20240511T130000
DTSTAMP;VALUE=DATE-TIME:20260421T162148Z
UID:154583a60bdb4f0daa839eaecfec053b@www.molletvalles.cat
CATEGORIES:Actos diversos
CREATED;VALUE=DATE-TIME:20240508T082905Z
LAST-MODIFIED;VALUE=DATE-TIME:20240510T062630Z
LOCATION:Parque de Les Pruneres
URL:https://www.molletvalles.cat/es/actualidad/agenda/actividad-de-txikung
 -con-motivo-del-dia-mundial-de-la-fibromialgia-y-sindrome-de-la-fatiga-cro
 nica
END:VEVENT
BEGIN:VTIMEZONE
TZID:Europe/Madrid
X-LIC-LOCATION:Europe/Madrid
BEGIN:DAYLIGHT
DTSTART;VALUE=DATE-TIME:20240331T030000
TZNAME:CEST
TZOFFSETFROM:+0100
TZOFFSETTO:+0200
END:DAYLIGHT
END:VTIMEZONE
END:VCALENDAR
