BEGIN:VCALENDAR
VERSION:2.0
PRODID:-//Plone.org//NONSGML plone.app.event//EN
X-WR-TIMEZONE:Europe/Madrid
BEGIN:VEVENT
SUMMARY:Actividad familiar: Visita a la colección de vidrio de la Casa de
 l Pintor Abelló
DTSTART;TZID=Europe/Madrid;VALUE=DATE-TIME:20240630T110000
DTEND;TZID=Europe/Madrid;VALUE=DATE-TIME:20240630T120000
DTSTAMP;VALUE=DATE-TIME:20260425T155150Z
UID:c8f54fcd5a30444fa4ac69d6a816740e@www.molletvalles.cat
CATEGORIES:Exposiciones
CREATED;VALUE=DATE-TIME:20240613T104925Z
LAST-MODIFIED;VALUE=DATE-TIME:20240618T070922Z
LOCATION:Casa del Pintor Abelló
URL:https://www.molletvalles.cat/es/actualidad/agenda/actividad-familiar-v
 isita-a-la-coleccion-de-vidrio-de-la-casa-del-pintor
END:VEVENT
BEGIN:VTIMEZONE
TZID:Europe/Madrid
X-LIC-LOCATION:Europe/Madrid
BEGIN:DAYLIGHT
DTSTART;VALUE=DATE-TIME:20240331T030000
TZNAME:CEST
TZOFFSETFROM:+0100
TZOFFSETTO:+0200
END:DAYLIGHT
END:VTIMEZONE
END:VCALENDAR
