BEGIN:VCALENDAR
VERSION:2.0
PRODID:-//Plone.org//NONSGML plone.app.event//EN
X-WR-TIMEZONE:Europe/Madrid
BEGIN:VEVENT
SUMMARY:Actividades de la Librería L'Illa
DTSTART;VALUE=DATE:20260423
DTEND;VALUE=DATE:20260424
DTSTAMP;VALUE=DATE-TIME:20260421T032007Z
UID:52d9f847e0274479b5d1a789f2ed58cd@www.molletvalles.cat
CATEGORIES:Actos diversos
CREATED;VALUE=DATE-TIME:20260420T122754Z
DESCRIPTION:SANT JORDI 2026
LAST-MODIFIED;VALUE=DATE-TIME:20260420T122935Z
LOCATION:Librería La Isla
URL:https://www.molletvalles.cat/es/actualidad/agenda/actividades-de-la-li
 breria-lilla
END:VEVENT
END:VCALENDAR
