BEGIN:VCALENDAR
VERSION:2.0
PRODID:-//Plone.org//NONSGML plone.app.event//EN
X-WR-TIMEZONE:Europe/Madrid
BEGIN:VEVENT
SUMMARY:Acto de presentación de las Actividades\, Cursos y Talleres 2023-
 2024 para personas mayores
DTSTART;TZID=Europe/Madrid;VALUE=DATE-TIME:20230913T173000
DTEND;TZID=Europe/Madrid;VALUE=DATE-TIME:20230913T183000
DTSTAMP;VALUE=DATE-TIME:20260419T162131Z
UID:1095f916edae4b4d84bf220840836f58@www.molletvalles.cat
CATEGORIES:Gente mayor
CREATED;VALUE=DATE-TIME:20230906T130635Z
LAST-MODIFIED;VALUE=DATE-TIME:20230906T131212Z
URL:https://www.molletvalles.cat/es/actualidad/agenda/acto-de-presentacion
 -de-las-actividades-cursos-y-talleres-2023-2024-para-personas-mayores
END:VEVENT
BEGIN:VTIMEZONE
TZID:Europe/Madrid
X-LIC-LOCATION:Europe/Madrid
BEGIN:DAYLIGHT
DTSTART;VALUE=DATE-TIME:20230326T030000
TZNAME:CEST
TZOFFSETFROM:+0100
TZOFFSETTO:+0200
END:DAYLIGHT
END:VTIMEZONE
END:VCALENDAR
